BEGIN:VCALENDAR
VERSION:2.0
PRODID:-//TYPO3/NONSGML News system (news)//EN
BEGIN:VEVENT
UID:news-135816@www.uni-graz.at
DTSTAMP:20260416T070557Z
DTSTART:20260625T150000Z
DTEND:20260625T190000Z
SUMMARY:Wie un/abhängig ist Europa?

DESCRIPTION:Ausseer Gespräche 2026
END:VEVENT
END:VCALENDAR
