BEGIN:VCALENDAR
VERSION:2.0
PRODID:-//TYPO3/NONSGML News system (news)//EN
BEGIN:VEVENT
UID:news-135819@www.uni-graz.at
DTSTAMP:20260416T070844Z
DTSTART:20260627T070000Z
DTEND:20260627T200000Z
SUMMARY:Wie un/abhängig ist Europa?

DESCRIPTION:Ausseer Gespräche 2026
END:VEVENT
END:VCALENDAR
