BEGIN:VCALENDAR
VERSION:2.0
PRODID:-//TYPO3/NONSGML News system (news)//EN
BEGIN:VEVENT
UID:news-135990@www.uni-graz.at
DTSTAMP:20260420T125720Z
DTSTART:20260528T170000Z
DTEND:20260528T190000Z
SUMMARY:Wanted: Oswald Wiener!

DESCRIPTION:Oswald Wiener: PURIM. Ein Fest Szenische Lesung: Alexandra Schmidt, Lukas Michelitsch und Nora Köhler (Das Planetenparty Prinzip). Anschließend Gespräch mit Daniela Bartens, VALIE EXPORT, František Lesák und Fritz Ostermayer.
END:VEVENT
END:VCALENDAR
