BEGIN:VCALENDAR
VERSION:2.0
PRODID:-//TYPO3/NONSGML News system (news)//EN
BEGIN:VEVENT
UID:news-131568@www.uni-graz.at
DTSTAMP:20260422T102906Z
DTSTART:20260505T160000Z
DTEND:20260505T200000Z
SUMMARY:Venturepreneurship Aula
END:VEVENT
END:VCALENDAR
