BEGIN:VCALENDAR
VERSION:2.0
PRODID:-//TYPO3/NONSGML News system (news)//EN
BEGIN:VEVENT
UID:news-131078@www.uni-graz.at
DTSTAMP:20260401T131346Z
DTSTART:20260529T160000Z
DTEND:20260529T210000Z
SUMMARY:Uni Vibes - das Fest, das Grenzen überwindet
END:VEVENT
END:VCALENDAR
