BEGIN:VCALENDAR
VERSION:2.0
PRODID:-//TYPO3/NONSGML News system (news)//EN
BEGIN:VEVENT
UID:news-135965@www.uni-graz.at
DTSTAMP:20260420T112115Z
DTSTART:20260511T170000Z
DTEND:20260511T190000Z
SUMMARY:Tomer Gardi: Liefern

DESCRIPTION:Im Gespräch mit: Marlene Gölz
END:VEVENT
END:VCALENDAR
