BEGIN:VCALENDAR
VERSION:2.0
PRODID:-//TYPO3/NONSGML News system (news)//EN
BEGIN:VEVENT
UID:news-135966@www.uni-graz.at
DTSTAMP:20260420T112258Z
DTSTART:20260513T113000Z
DTEND:20260513T131500Z
SUMMARY:The interdisciplinary imperative: reimagining education from AI+X

DESCRIPTION:Gastvortrag von Thomas Chiu, Associate Professor für KI und MINT-Bildung an der Chinese University of Hong Kong
END:VEVENT
END:VCALENDAR
