BEGIN:VCALENDAR
VERSION:2.0
PRODID:-//TYPO3/NONSGML News system (news)//EN
BEGIN:VEVENT
UID:news-136059@www.uni-graz.at
DTSTAMP:20260422T111638Z
DTSTART:20260513T130000Z
DTEND:20260513T140000Z
SUMMARY:The Future of Work

DESCRIPTION:in Kooperation mit Porsche Holding
END:VEVENT
END:VCALENDAR
