BEGIN:VCALENDAR
VERSION:2.0
PRODID:-//TYPO3/NONSGML News system (news)//EN
BEGIN:VEVENT
UID:news-136061@www.uni-graz.at
DTSTAMP:20260422T111918Z
DTSTART:20260528T130000Z
DTEND:20260528T143000Z
SUMMARY:Studieren im Ausland? - Ja, ich will!

DESCRIPTION:Infoveranstaltung zu den Mobilitätsprogrammen Erasmus+ und Erasmus+ International
END:VEVENT
END:VCALENDAR
