BEGIN:VCALENDAR
VERSION:2.0
PRODID:-//TYPO3/NONSGML News system (news)//EN
BEGIN:VEVENT
UID:news-136108@www.uni-graz.at
DTSTAMP:20260423T071356Z
DTSTART:20260527T140000Z
DTEND:20260527T160000Z
SUMMARY:STEOP Summer Vibes Lehramt

DESCRIPTION:Den STEOP Abschluss feiern
END:VEVENT
END:VCALENDAR
