BEGIN:VCALENDAR
VERSION:2.0
PRODID:-//TYPO3/NONSGML News system (news)//EN
BEGIN:VEVENT
UID:news-136202@www.uni-graz.at
DTSTAMP:20260424T075026Z
DTSTART:20270709T073000Z
DTEND:20270709T123000Z
SUMMARY:Sponsion und Promotion: Umwelt- Regional- und Bildungswissenschaftliche Fakultät
END:VEVENT
END:VCALENDAR
