BEGIN:VCALENDAR
VERSION:2.0
PRODID:-//TYPO3/NONSGML News system (news)//EN
BEGIN:VEVENT
UID:news-136184@www.uni-graz.at
DTSTAMP:20260424T065904Z
DTSTART:20270305T083000Z
DTEND:20270305T130000Z
SUMMARY:Sponsion und Promotion: Umwelt- Regional- und Bildungswissenschaftliche Fakultät
END:VEVENT
END:VCALENDAR
