BEGIN:VCALENDAR
VERSION:2.0
PRODID:-//TYPO3/NONSGML News system (news)//EN
BEGIN:VEVENT
UID:news-136177@www.uni-graz.at
DTSTAMP:20260424T064946Z
DTSTART:20261211T083000Z
DTEND:20261211T130000Z
SUMMARY:Sponsion und Promotion: Umwelt- Regional- und Bildungswissenschaftliche Fakultät
END:VEVENT
END:VCALENDAR
