BEGIN:VCALENDAR
VERSION:2.0
PRODID:-//TYPO3/NONSGML News system (news)//EN
BEGIN:VEVENT
UID:news-136171@www.uni-graz.at
DTSTAMP:20260424T063300Z
DTSTART:20261016T073000Z
DTEND:20261016T120000Z
SUMMARY:Sponsion und Promotion: Umwelt- Regional- und Bildungswissenschaftliche Fakultät
END:VEVENT
END:VCALENDAR
