BEGIN:VCALENDAR
VERSION:2.0
PRODID:-//TYPO3/NONSGML News system (news)//EN
BEGIN:VEVENT
UID:news-125135@www.uni-graz.at
DTSTAMP:20250729T063716Z
DTSTART:20260508T073000Z
DTEND:20260508T120000Z
SUMMARY:Sponsion und Promotion: Umwelt- Regional- und Bildungswissenschaftliche Fakultät
END:VEVENT
END:VCALENDAR
