BEGIN:VCALENDAR
VERSION:2.0
PRODID:-//TYPO3/NONSGML News system (news)//EN
BEGIN:VEVENT
UID:news-136203@www.uni-graz.at
DTSTAMP:20260424T075216Z
DTSTART:20270714T073000Z
DTEND:20270714T120000Z
SUMMARY:Sponsion und Promotion: Sozial- und Wirtschaftswissenschaftliche Fakultät
END:VEVENT
END:VCALENDAR
