BEGIN:VCALENDAR
VERSION:2.0
PRODID:-//TYPO3/NONSGML News system (news)//EN
BEGIN:VEVENT
UID:news-136190@www.uni-graz.at
DTSTAMP:20260424T070629Z
DTSTART:20270322T083000Z
DTEND:20270322T130000Z
SUMMARY:Sponsion und Promotion: Sozial- und Wirtschaftswissenschaftliche Fakultät
END:VEVENT
END:VCALENDAR
