BEGIN:VCALENDAR
VERSION:2.0
PRODID:-//TYPO3/NONSGML News system (news)//EN
BEGIN:VEVENT
UID:news-136182@www.uni-graz.at
DTSTAMP:20260424T065723Z
DTSTART:20270129T083000Z
DTEND:20270129T110000Z
SUMMARY:Sponsion und Promotion: Sozial- und Wirtschaftswissenschaftliche Fakultät
END:VEVENT
END:VCALENDAR
