BEGIN:VCALENDAR
VERSION:2.0
PRODID:-//TYPO3/NONSGML News system (news)//EN
BEGIN:VEVENT
UID:news-136173@www.uni-graz.at
DTSTAMP:20260424T063447Z
DTSTART:20261030T083000Z
DTEND:20261030T130000Z
SUMMARY:Sponsion und Promotion: Sozial- und Wirtschaftswissenschaftliche Fakultät
END:VEVENT
END:VCALENDAR
