BEGIN:VCALENDAR
VERSION:2.0
PRODID:-//TYPO3/NONSGML News system (news)//EN
BEGIN:VEVENT
UID:news-136204@www.uni-graz.at
DTSTAMP:20260424T075258Z
DTSTART:20270715T073000Z
DTEND:20270715T123000Z
SUMMARY:Sponsion und Promotion: Rechtswissenschaftliche Fakultät
END:VEVENT
END:VCALENDAR
