BEGIN:VCALENDAR
VERSION:2.0
PRODID:-//TYPO3/NONSGML News system (news)//EN
BEGIN:VEVENT
UID:news-136197@www.uni-graz.at
DTSTAMP:20260424T074146Z
DTSTART:20270524T073000Z
DTEND:20270524T120000Z
SUMMARY:Sponsion und Promotion: Rechtswissenschaftliche Fakultät
END:VEVENT
END:VCALENDAR
