BEGIN:VCALENDAR
VERSION:2.0
PRODID:-//TYPO3/NONSGML News system (news)//EN
BEGIN:VEVENT
UID:news-136189@www.uni-graz.at
DTSTAMP:20260424T070424Z
DTSTART:20270319T083000Z
DTEND:20270319T130000Z
SUMMARY:Sponsion und Promotion: Rechtswissenschaftliche Fakultät
END:VEVENT
END:VCALENDAR
