BEGIN:VCALENDAR
VERSION:2.0
PRODID:-//TYPO3/NONSGML News system (news)//EN
BEGIN:VEVENT
UID:news-136180@www.uni-graz.at
DTSTAMP:20260424T065340Z
DTSTART:20270125T083000Z
DTEND:20270125T110000Z
SUMMARY:Sponsion und Promotion: Rechtswissenschaftliche Fakultät
END:VEVENT
END:VCALENDAR
