BEGIN:VCALENDAR
VERSION:2.0
PRODID:-//TYPO3/NONSGML News system (news)//EN
BEGIN:VEVENT
UID:news-136172@www.uni-graz.at
DTSTAMP:20260424T063347Z
DTSTART:20261019T073000Z
DTEND:20261019T120000Z
SUMMARY:Sponsion und Promotion: Rechtswissenschaftliche Fakultät
END:VEVENT
END:VCALENDAR
