BEGIN:VCALENDAR
VERSION:2.0
PRODID:-//TYPO3/NONSGML News system (news)//EN
BEGIN:VEVENT
UID:news-136199@www.uni-graz.at
DTSTAMP:20260424T074314Z
DTSTART:20270702T073000Z
DTEND:20270702T123000Z
SUMMARY:Sponsion und Promotion: Naturwissenschaftliche Fakultät
END:VEVENT
END:VCALENDAR
