BEGIN:VCALENDAR
VERSION:2.0
PRODID:-//TYPO3/NONSGML News system (news)//EN
BEGIN:VEVENT
UID:news-136187@www.uni-graz.at
DTSTAMP:20260424T070255Z
DTSTART:20270308T083000Z
DTEND:20270308T130000Z
SUMMARY:Sponsion und Promotion: Naturwissenschaftliche Fakultät
END:VEVENT
END:VCALENDAR
