BEGIN:VCALENDAR
VERSION:2.0
PRODID:-//TYPO3/NONSGML News system (news)//EN
BEGIN:VEVENT
UID:news-136179@www.uni-graz.at
DTSTAMP:20260424T065241Z
DTSTART:20270122T083000Z
DTEND:20270122T130000Z
SUMMARY:Sponsion und Promotion: Naturwissenschaftliche Fakultät
END:VEVENT
END:VCALENDAR
