BEGIN:VCALENDAR
VERSION:2.0
PRODID:-//TYPO3/NONSGML News system (news)//EN
BEGIN:VEVENT
UID:news-136170@www.uni-graz.at
DTSTAMP:20260424T063206Z
DTSTART:20261012T073000Z
DTEND:20261012T120000Z
SUMMARY:Sponsion und Promotion: Naturwissenschaftliche Fakultät
END:VEVENT
END:VCALENDAR
