BEGIN:VCALENDAR
VERSION:2.0
PRODID:-//TYPO3/NONSGML News system (news)//EN
BEGIN:VEVENT
UID:news-136181@www.uni-graz.at
DTSTAMP:20260424T065431Z
DTSTART:20270125T123000Z
DTEND:20270125T140000Z
SUMMARY:Sponsion und Promotion: Katholisch-Theologische Fakultät
END:VEVENT
END:VCALENDAR
