BEGIN:VCALENDAR
VERSION:2.0
PRODID:-//TYPO3/NONSGML News system (news)//EN
BEGIN:VEVENT
UID:news-136201@www.uni-graz.at
DTSTAMP:20260424T074939Z
DTSTART:20270708T073000Z
DTEND:20270708T123000Z
SUMMARY:Sponsion und Promotion: Geisteswissenschaftliche Fakultät
END:VEVENT
END:VCALENDAR
