BEGIN:VCALENDAR
VERSION:2.0
PRODID:-//TYPO3/NONSGML News system (news)//EN
BEGIN:VEVENT
UID:news-136196@www.uni-graz.at
DTSTAMP:20260424T073750Z
DTSTART:20270521T073000Z
DTEND:20270521T120000Z
SUMMARY:Sponsion und Promotion: Geisteswissenschaftliche Fakultät
END:VEVENT
END:VCALENDAR
