BEGIN:VCALENDAR
VERSION:2.0
PRODID:-//TYPO3/NONSGML News system (news)//EN
BEGIN:VEVENT
UID:news-136188@www.uni-graz.at
DTSTAMP:20260424T070342Z
DTSTART:20270312T083000Z
DTEND:20270312T130000Z
SUMMARY:Sponsion und Promotion: Geisteswissenschaftliche Fakultät
END:VEVENT
END:VCALENDAR
