BEGIN:VCALENDAR
VERSION:2.0
PRODID:-//TYPO3/NONSGML News system (news)//EN
BEGIN:VEVENT
UID:news-136183@www.uni-graz.at
DTSTAMP:20260424T065810Z
DTSTART:20270129T110000Z
DTEND:20270129T140000Z
SUMMARY:Sponsion und Promotion: Geisteswissenschaftliche Fakultät
END:VEVENT
END:VCALENDAR
