BEGIN:VCALENDAR
VERSION:2.0
PRODID:-//TYPO3/NONSGML News system (news)//EN
BEGIN:VEVENT
UID:news-136175@www.uni-graz.at
DTSTAMP:20260424T064503Z
DTSTART:20261204T110000Z
DTEND:20261204T143000Z
SUMMARY:Sponsion und Promotion: Geisteswissenschaftliche Fakultät
END:VEVENT
END:VCALENDAR
