BEGIN:VCALENDAR
VERSION:2.0
PRODID:-//TYPO3/NONSGML News system (news)//EN
BEGIN:VEVENT
UID:news-135971@www.uni-graz.at
DTSTAMP:20260420T113054Z
DTSTART:20260520T170000Z
DTEND:20260520T190000Z
SUMMARY:Renate Welsh: Ich fall mir selbst ins Wort

DESCRIPTION:Im Gespräch mit: Irene Hetzenauer
END:VEVENT
END:VCALENDAR
