BEGIN:VCALENDAR
VERSION:2.0
PRODID:-//TYPO3/NONSGML News system (news)//EN
BEGIN:VEVENT
UID:news-136076@www.uni-graz.at
DTSTAMP:20260422T121120Z
DTSTART:20260512T120000Z
DTEND:20260512T150000Z
SUMMARY:Prokrastination überwinden - vom Aufschieben ins Tun kommen
END:VEVENT
END:VCALENDAR
