BEGIN:VCALENDAR
VERSION:2.0
PRODID:-//TYPO3/NONSGML News system (news)//EN
BEGIN:VEVENT
UID:news-135945@www.uni-graz.at
DTSTAMP:20260420T093743Z
DTSTART:20260428T150000Z
DTEND:20260428T163000Z
SUMMARY:Naturschutz in der Verwaltungspraxis Teil 2 Schutzgebiete – Legistik bis Management
END:VEVENT
END:VCALENDAR
