BEGIN:VCALENDAR
VERSION:2.0
PRODID:-//TYPO3/NONSGML News system (news)//EN
BEGIN:VEVENT
UID:news-135962@www.uni-graz.at
DTSTAMP:20260420T104912Z
DTSTART:20260507T170000Z
DTEND:20260507T190000Z
SUMMARY:Mauthausen-Cantata: Die Freiheit kam im Mai (von Iakovos Kambanellis)

DESCRIPTION:Gedenkrede: Monika Sommer (Historikerin und Direktorin des Hauses der Geschichte Österreichs). Elena Strubakis liest aus dem Buch von Iakovos Kambanellis: Die Freiheit kam im Mai. Konzert: Olga Kessaris &amp; Ensemble
END:VEVENT
END:VCALENDAR
