BEGIN:VCALENDAR
VERSION:2.0
PRODID:-//TYPO3/NONSGML News system (news)//EN
BEGIN:VEVENT
UID:news-135989@www.uni-graz.at
DTSTAMP:20260420T125616Z
DTSTART:20260527T170000Z
DTEND:20260527T190000Z
SUMMARY:Marlene Streeruwitz: Prinzessinnenkunde

DESCRIPTION:Im Gespräch mit: Manfred Mittermayer
END:VEVENT
END:VCALENDAR
