BEGIN:VCALENDAR
VERSION:2.0
PRODID:-//TYPO3/NONSGML News system (news)//EN
BEGIN:VEVENT
UID:news-135951@www.uni-graz.at
DTSTAMP:20260420T095100Z
DTSTART:20260505T170000Z
DTEND:20260505T190000Z
SUMMARY:Literarische Jugend-Soirée

DESCRIPTION:Mit Nuria Karimi, Johanna Köck und Lara Lengfellner. Moderation: Sebastian Meißl
END:VEVENT
END:VCALENDAR
