BEGIN:VCALENDAR
VERSION:2.0
PRODID:-//TYPO3/NONSGML News system (news)//EN
BEGIN:VEVENT
UID:news-135797@www.uni-graz.at
DTSTAMP:20260415T121214Z
DTSTART:20260423T170000Z
DTEND:20260423T190000Z
SUMMARY:Lesezirkel: &quot;Tristan&quot; von Gottfried von Straßburg

DESCRIPTION:veranstaltet von der StV/IG Germanistik
END:VEVENT
END:VCALENDAR
