BEGIN:VCALENDAR
VERSION:2.0
PRODID:-//TYPO3/NONSGML News system (news)//EN
BEGIN:VEVENT
UID:news-136107@www.uni-graz.at
DTSTAMP:20260423T071300Z
DTSTART:20260506T130000Z
DTEND:20260506T160000Z
SUMMARY:Lernraum Lehramt 

DESCRIPTION:Prüfungsvorbereitung mit Brain Food 
END:VEVENT
END:VCALENDAR
