BEGIN:VCALENDAR
VERSION:2.0
PRODID:-//TYPO3/NONSGML News system (news)//EN
BEGIN:VEVENT
UID:news-136075@www.uni-graz.at
DTSTAMP:20260422T121046Z
DTSTART:20260507T120000Z
DTEND:20260507T150000Z
SUMMARY:Lern- und Merktechniken: Inhalte einprägen &amp; langfristig behalten
END:VEVENT
END:VCALENDAR
