BEGIN:VCALENDAR
VERSION:2.0
PRODID:-//TYPO3/NONSGML News system (news)//EN
BEGIN:VEVENT
UID:news-134047@www.uni-graz.at
DTSTAMP:20260218T141747Z
DTSTART:20260429T170000Z
DTEND:20260429T190000Z
SUMMARY:Konrad Paul Liessmann über Richard Strauss‘ Oper: Der Rosenkavalier

DESCRIPTION:Im Anschluss Philipp Krenn (Regisseur) im Gespräch mit Katharina John (Chefdramaturgin) über die Grazer Inszenierung.
END:VEVENT
END:VCALENDAR
