BEGIN:VCALENDAR
VERSION:2.0
PRODID:-//TYPO3/NONSGML News system (news)//EN
BEGIN:VEVENT
UID:news-133686@www.uni-graz.at
DTSTAMP:20260205T143938Z
DTSTART:20260512T063000Z
DTEND:20260512T080000Z
SUMMARY:Know-how fürs Assessment Center: theoretische Grundlagen
END:VEVENT
END:VCALENDAR
