BEGIN:VCALENDAR
VERSION:2.0
PRODID:-//TYPO3/NONSGML News system (news)//EN
BEGIN:VEVENT
UID:news-135967@www.uni-graz.at
DTSTAMP:20260420T112349Z
DTSTART:20260513T170000Z
DTEND:20260513T190000Z
SUMMARY:Ingrid Brodnig: Feindbild Frau

DESCRIPTION:Im Gespräch mit: Barbara Haas
END:VEVENT
END:VCALENDAR
