BEGIN:VCALENDAR
VERSION:2.0
PRODID:-//TYPO3/NONSGML News system (news)//EN
BEGIN:VEVENT
UID:news-136060@www.uni-graz.at
DTSTAMP:20260422T111817Z
DTSTART:20260521T150000Z
DTEND:20260521T200000Z
SUMMARY:HTN 2026 Online-Konferenz

DESCRIPTION:Neue Horizonte in der Vergangenheit
Von 21.05. bis 22.05.
END:VEVENT
END:VCALENDAR
