BEGIN:VCALENDAR
VERSION:2.0
PRODID:-//TYPO3/NONSGML News system (news)//EN
BEGIN:VEVENT
UID:news-135800@www.uni-graz.at
DTSTAMP:20260415T121714Z
DTSTART:20260521T070000Z
DTEND:20260521T120000Z
SUMMARY:Hearings der Tenure Track-Professur Mikrobiologie

DESCRIPTION:Von 21.05. bis 22.05., von 9:00 bis 14:00 Uhr
END:VEVENT
END:VCALENDAR
