BEGIN:VCALENDAR
VERSION:2.0
PRODID:-//TYPO3/NONSGML News system (news)//EN
BEGIN:VEVENT
UID:news-135970@www.uni-graz.at
DTSTAMP:20260420T112954Z
DTSTART:20260519T170000Z
DTEND:20260519T190000Z
SUMMARY:Grazer Vorlesungen zur Kunst des Schreibens mit Mascha Jacobs, Teil 2

DESCRIPTION:Moderation: Anne-Kathrin Reulecke
END:VEVENT
END:VCALENDAR
