BEGIN:VCALENDAR
VERSION:2.0
PRODID:-//TYPO3/NONSGML News system (news)//EN
BEGIN:VEVENT
UID:news-135969@www.uni-graz.at
DTSTAMP:20260420T112656Z
DTSTART:20260518T170000Z
DTEND:20260518T190000Z
SUMMARY:Grazer Vorlesungen zur Kunst des Schreibens mit Mascha Jacobs, Teil 1

DESCRIPTION:Moderation: Anne-Kathrin Reulecke
END:VEVENT
END:VCALENDAR
